﻿BEGIN:VCALENDAR
VERSION:2.0
PRODID:-//Ayuntamiento de Mérida - ECPv6.15.17.1//NONSGML v1.0//EN
CALSCALE:GREGORIAN
METHOD:PUBLISH
X-WR-CALNAME:Ayuntamiento de Mérida
X-ORIGINAL-URL:https://merida.es
X-WR-CALDESC:Eventos para Ayuntamiento de Mérida
REFRESH-INTERVAL;VALUE=DURATION:PT1H
X-Robots-Tag:noindex
X-PUBLISHED-TTL:PT1H
BEGIN:VTIMEZONE
TZID:Europe/Madrid
BEGIN:DAYLIGHT
TZOFFSETFROM:+0100
TZOFFSETTO:+0200
TZNAME:CEST
DTSTART:20170326T010000
END:DAYLIGHT
BEGIN:STANDARD
TZOFFSETFROM:+0200
TZOFFSETTO:+0100
TZNAME:CET
DTSTART:20171029T010000
END:STANDARD
BEGIN:DAYLIGHT
TZOFFSETFROM:+0100
TZOFFSETTO:+0200
TZNAME:CEST
DTSTART:20180325T010000
END:DAYLIGHT
BEGIN:STANDARD
TZOFFSETFROM:+0200
TZOFFSETTO:+0100
TZNAME:CET
DTSTART:20181028T010000
END:STANDARD
BEGIN:DAYLIGHT
TZOFFSETFROM:+0100
TZOFFSETTO:+0200
TZNAME:CEST
DTSTART:20190331T010000
END:DAYLIGHT
BEGIN:STANDARD
TZOFFSETFROM:+0200
TZOFFSETTO:+0100
TZNAME:CET
DTSTART:20191027T010000
END:STANDARD
END:VTIMEZONE
BEGIN:VEVENT
DTSTART;VALUE=DATE:20180718
DTEND;VALUE=DATE:20180721
DTSTAMP:20260420T035240
CREATED:20180705T083159Z
LAST-MODIFIED:20180705T083159Z
UID:59927-1531872000-1532131199@merida.es
SUMMARY:Teatro (Agusto en Mérida): "Symposyo – elbanquetedeplatón#"
DESCRIPTION:La programación off del Festival Internacional de Teatro Clásico de Mérida\, ‘Agusto en Mérida’\, la conforman un conjunto de intervenciones que contribuyen a divulgar la cultura clásica a través de acciones formativas\, lúdicas y artísticas. Se revitalizan diferentes espacios de la ciudad como el Templo de Diana\, el Pórtico del Foro y la Termas de la Calle Pontezuelas\, devolviendo a estos privilegiados escenarios la cultura clásica grecolatina durante los meses de julio y agosto\, bajo la dirección de TAPTC? Teatro.\nTítulo: Symposyo – elbanquetedeplatón#\nVersión escénica de Javier Llanos sobre el diálogo SIMPOSIO de Platón.\nS.E.T. (Servicio de Emergencias Teatrales) – Escuela de teatro TAPTC?.\nDirección: Javier Llanos.\nSinopsis: Unas mujeres rememoran el banquete celebrado en casa del poeta trágico Agatón en la que Sócrates\, Aristófanes y otros intelectuales de la época disertan en torno al Amor.\nPropuesta escénica: Diálogo escénico con elementos narratúrgicos y música en directo. Dirigido a público juvenil y adulto\nSe representará del miércoles 18 al viernes 20 de julio\, en el Patio Porticado del Parador de Mérida\, en dos pases\, a las 20:30 y a las 22 horas. Donativo: 4€ o 6€ con consumición posterior.
URL:https://merida.es/agenda/teatro-agusto-en-merida-symposyo-elbanquetedeplaton/
LOCATION:Parador de Mérida\, Plaza de la Constitución\, Mérida\, 06800\, España
CATEGORIES:Teatro
ATTACH;FMTTYPE=image/jpeg:https://merida.es/wp-content/uploads/2018/06/agusto-merida-peq2.jpg
END:VEVENT
BEGIN:VEVENT
DTSTART;VALUE=DATE:20180718
DTEND;VALUE=DATE:20180723
DTSTAMP:20260420T035240
CREATED:20180322T115144Z
LAST-MODIFIED:20180322T115144Z
UID:57339-1531872000-1532303999@merida.es
SUMMARY:64 Festival de Teatro Clásico de Mérida: "Esquilo\, nacimiento y muerte de la tragedia" de 'El Brujo'
DESCRIPTION:Hace muchos años leí la definición de Arte Clásico que daba un gran erudito helenista cuyo nombre ahora ya no recuerdo: “Una obra es clásica\, (decía) cuando no hay en ella ningún resto del esfuerzo que conlleva todo proceso creador”. En ese caso\, pensé\, sólo es clásica la puesta de sol\, el vuelo majestuoso de un águila en el cielo sin límites o el baile de los astros en el universo. En definitiva\, algo siempre inaccesible a los artistas mortales.\nEl año pasado visité la Acrópolis y el Partenón y vi en el Museo unas cariátides de casi cuatro metros de altura. Estaban perfectamente labradas por delante y por detrás. Los bucles del cabello eran hermosos\, armónicos y atrajeron magnéticamente mi mirada. Después supe que la parte de atrás estaba destinada a ir adosada a la pared de un templo. No obstante\, los detalles exhibían el mismo cuidado y la misma belleza que la parte delantera\, en principio la única que iba quedar expuesta a la vista. Y entonces recordé la definición del erudito helenista sobre el Arte Clásico y entonces entendí que el erudito se refería a una actitud: la obra es clásica cuando nace de un respeto profundo hacia lo que uno hace\, más allá del resultado fiel plasmado en un objeto. La vida es el arte y la vida es clásica. El proceso de creación es el juego mismo de la vida en marcha. Esta inocencia es la que percibí en el Prometeo encadenado\, de Esquilo. Una magia lejana y un ritmo sin tensión. Esta es sin duda una obra clásica que nace de la misma inocencia sagrada que exhibían aquellas cariátides. Y me enamoré de Esquilo. Y aluciné con él. Y me inventé otro Esquilo. Y jugué con él. Me he bañado en el manantial de la tragedia griega con el pretexto de este espectáculo. Ahora espero una primavera con la flor de Apolo naciendo en los bosques al son de la flauta de Dioniso\, que me recuerda la flauta de Krishmá\, el dios indio que juega y baila con las pastoras ¡la naturaleza es el arte y la naturaleza es el espíritu!\nEste espectáculo es la mirada de un cómico español sobre la tragedia griega\, un cómico que ha sobrevivido y sobrevive para hacer reír constantemente a su público. No sé qué será del resultado\, pero de momento… estoy feliz. Y que ustedes lo disfruten.\nRafael Álvarez “El Brujo”\nReparto: Rafael Álvarez “El Brujo” como actor solista\nAutor: Esquilo\nVersión: Rafael Álvarez “El Brujo”\nUna producción del Festival Internacional de Teatro Clásico de Mérida y la compañía de Rafael Álvarez “El Brujo”\nVenta de entradas: http://www.festivaldemerida.es\n 
URL:https://merida.es/agenda/64-festival-de-teatro-clasico-de-merida-esquilo-nacimiento-y-muerte-de-la-tragedia-de-el-brujo/
LOCATION:Teatro Romano\, Plaza de Margarita Xirgú\, Mérida
CATEGORIES:Teatro
ATTACH;FMTTYPE=image/jpeg:https://merida.es/wp-content/uploads/2018/03/esquilo-peq.jpg
END:VEVENT
END:VCALENDAR