﻿BEGIN:VCALENDAR
VERSION:2.0
PRODID:-//Ayuntamiento de Mérida - ECPv6.15.17.1//NONSGML v1.0//EN
CALSCALE:GREGORIAN
METHOD:PUBLISH
X-WR-CALNAME:Ayuntamiento de Mérida
X-ORIGINAL-URL:https://merida.es
X-WR-CALDESC:Eventos para Ayuntamiento de Mérida
REFRESH-INTERVAL;VALUE=DURATION:PT1H
X-Robots-Tag:noindex
X-PUBLISHED-TTL:PT1H
BEGIN:VTIMEZONE
TZID:Europe/Madrid
BEGIN:DAYLIGHT
TZOFFSETFROM:+0100
TZOFFSETTO:+0200
TZNAME:CEST
DTSTART:20170326T010000
END:DAYLIGHT
BEGIN:STANDARD
TZOFFSETFROM:+0200
TZOFFSETTO:+0100
TZNAME:CET
DTSTART:20171029T010000
END:STANDARD
BEGIN:DAYLIGHT
TZOFFSETFROM:+0100
TZOFFSETTO:+0200
TZNAME:CEST
DTSTART:20180325T010000
END:DAYLIGHT
BEGIN:STANDARD
TZOFFSETFROM:+0200
TZOFFSETTO:+0100
TZNAME:CET
DTSTART:20181028T010000
END:STANDARD
BEGIN:DAYLIGHT
TZOFFSETFROM:+0100
TZOFFSETTO:+0200
TZNAME:CEST
DTSTART:20190331T010000
END:DAYLIGHT
BEGIN:STANDARD
TZOFFSETFROM:+0200
TZOFFSETTO:+0100
TZNAME:CET
DTSTART:20191027T010000
END:STANDARD
END:VTIMEZONE
BEGIN:VEVENT
DTSTART;VALUE=DATE:20180723
DTEND;VALUE=DATE:20180727
DTSTAMP:20260419T222210
CREATED:20180705T083842Z
LAST-MODIFIED:20180705T083842Z
UID:59930-1532304000-1532649599@merida.es
SUMMARY:Teatro (Agusto en Mérida): "Lysístrata y el tesoro de Atenas"
DESCRIPTION:La programación off del Festival Internacional de Teatro Clásico de Mérida\, ‘Agusto en Mérida’\, la conforman un conjunto de intervenciones que contribuyen a divulgar la cultura clásica a través de acciones formativas\, lúdicas y artísticas. Se revitalizan diferentes espacios de la ciudad como el Templo de Diana\, el Pórtico del Foro y la Termas de la Calle Pontezuelas\, devolviendo a estos privilegiados escenarios la cultura clásica grecolatina durante los meses de julio y agosto\, bajo la dirección de TAPTC? Teatro.\nTítulo: Lysístrata y el tesoro de Atenas\nVersión de Raquel Bazo del homónimo de Aristófanes.\nCampo Internacional de Voluntariado “Festival de Mérida” y Escuela de Teatro TAPTC?. \nDirección: Raquel Bazo.\nSinopsis: Debido a las continuas luchas que mantienen Atenas y Esparta\, las mujeres de ambas ciudades deciden iniciar una huelga de sexo hasta que los hombres dejen las armas. El pacto se propaga por las ciudades para que repercuta en los combatientes de ambos lados.\nPropuesta escénica: Comedia Clásica. Con los/as participantes del Campo de Voluntariado “Festival de Mérida”\, se conformará el Coro de ciudadanos y ciudadanas de Atenas\, Beocia\, Corinto y Esparta. Dirigido a público familiar\nSe representará del lunes 23 al jueves 26 de julio\, en el Templo de Diana\, a las 21:00 horas. Donativo: 3\,5 €.
URL:https://merida.es/agenda/teatro-agusto-en-merida-lysistrata-y-el-tesoro-de-atenas/
LOCATION:Templo de Diana\, Calle Romero Leal\, s/n\, Mérida
CATEGORIES:Teatro
ATTACH;FMTTYPE=image/jpeg:https://merida.es/wp-content/uploads/2018/06/agusto-merida-peq2.jpg
END:VEVENT
END:VCALENDAR