﻿BEGIN:VCALENDAR
VERSION:2.0
PRODID:-//Ayuntamiento de Mérida - ECPv6.15.17.1//NONSGML v1.0//EN
CALSCALE:GREGORIAN
METHOD:PUBLISH
X-ORIGINAL-URL:https://merida.es
X-WR-CALDESC:Eventos para Ayuntamiento de Mérida
REFRESH-INTERVAL;VALUE=DURATION:PT1H
X-Robots-Tag:noindex
X-PUBLISHED-TTL:PT1H
BEGIN:VTIMEZONE
TZID:Europe/Madrid
BEGIN:DAYLIGHT
TZOFFSETFROM:+0100
TZOFFSETTO:+0200
TZNAME:CEST
DTSTART:20230326T010000
END:DAYLIGHT
BEGIN:STANDARD
TZOFFSETFROM:+0200
TZOFFSETTO:+0100
TZNAME:CET
DTSTART:20231029T010000
END:STANDARD
BEGIN:DAYLIGHT
TZOFFSETFROM:+0100
TZOFFSETTO:+0200
TZNAME:CEST
DTSTART:20240331T010000
END:DAYLIGHT
BEGIN:STANDARD
TZOFFSETFROM:+0200
TZOFFSETTO:+0100
TZNAME:CET
DTSTART:20241027T010000
END:STANDARD
BEGIN:DAYLIGHT
TZOFFSETFROM:+0100
TZOFFSETTO:+0200
TZNAME:CEST
DTSTART:20250330T010000
END:DAYLIGHT
BEGIN:STANDARD
TZOFFSETFROM:+0200
TZOFFSETTO:+0100
TZNAME:CET
DTSTART:20251026T010000
END:STANDARD
END:VTIMEZONE
BEGIN:VEVENT
DTSTART;TZID=Europe/Madrid:20240310T190000
DTEND;TZID=Europe/Madrid:20240310T190000
DTSTAMP:20260422T182928
CREATED:20240304T172413Z
LAST-MODIFIED:20240305T161241Z
UID:128718-1710097200-1710097200@merida.es
SUMMARY:Teatro: "Del grito a la palabra"
DESCRIPTION:DOMINGO Día 10 de marzo de 2024. 19.00 horas \nEspectáculo: Del Grito a la Palabra\nCompañía: Verbo Producciones \nSinopsis: Este proyecto es el acto de valentía de una mujer que cree en la capacidad de sanación de las historias y en la fuerza y poder de comunicación que adquieren los artistas cuando se comprometen con su tiempo y ponen su propio dolor al servicio de una catarsis colectiva.  \nSin embargo\, no es un documento de un solo caso\, es el reláejo de una época. No trata una pena concreta\, sino el dolor profundo de una humanidad que transita entre los traumas personales y sociales y su cristalización en la violencia. \nDirección: Ana García Pérez\nReparto: Paca Velardiez \nDuración: 60 min.\nPúblico recomendado: a partir de 16 años \nEntrada gratuita previa solicitud de invitaciones aquí: https://forms.gle/SJEYyAcLSN6zEGyi7
URL:https://merida.es/agenda/teatro-del-grito-a-la-palabra/
LOCATION:Centro Cultural La Antigua\, Calle Nerja s/n\, Mérida\, Badajoz\, 06800\, Spain
CATEGORIES:Teatro
ATTACH;FMTTYPE=image/jpeg:https://merida.es/wp-content/uploads/2024/03/2024-del-grito-a-la-palabra-peq1.jpg
END:VEVENT
END:VCALENDAR