﻿BEGIN:VCALENDAR
VERSION:2.0
PRODID:-//Ayuntamiento de Mérida - ECPv6.15.17.1//NONSGML v1.0//EN
CALSCALE:GREGORIAN
METHOD:PUBLISH
X-ORIGINAL-URL:https://merida.es
X-WR-CALDESC:Eventos para Ayuntamiento de Mérida
REFRESH-INTERVAL;VALUE=DURATION:PT1H
X-Robots-Tag:noindex
X-PUBLISHED-TTL:PT1H
BEGIN:VTIMEZONE
TZID:Europe/Madrid
BEGIN:DAYLIGHT
TZOFFSETFROM:+0100
TZOFFSETTO:+0200
TZNAME:CEST
DTSTART:20230326T010000
END:DAYLIGHT
BEGIN:STANDARD
TZOFFSETFROM:+0200
TZOFFSETTO:+0100
TZNAME:CET
DTSTART:20231029T010000
END:STANDARD
BEGIN:DAYLIGHT
TZOFFSETFROM:+0100
TZOFFSETTO:+0200
TZNAME:CEST
DTSTART:20240331T010000
END:DAYLIGHT
BEGIN:STANDARD
TZOFFSETFROM:+0200
TZOFFSETTO:+0100
TZNAME:CET
DTSTART:20241027T010000
END:STANDARD
BEGIN:DAYLIGHT
TZOFFSETFROM:+0100
TZOFFSETTO:+0200
TZNAME:CEST
DTSTART:20250330T010000
END:DAYLIGHT
BEGIN:STANDARD
TZOFFSETFROM:+0200
TZOFFSETTO:+0100
TZNAME:CET
DTSTART:20251026T010000
END:STANDARD
END:VTIMEZONE
BEGIN:VEVENT
DTSTART;TZID=Europe/Madrid:20240312T110000
DTEND;TZID=Europe/Madrid:20240312T190000
DTSTAMP:20260422T112001
CREATED:20240307T225256Z
LAST-MODIFIED:20240307T225256Z
UID:128845-1710241200-1710270000@merida.es
SUMMARY:Teatro escolar: "Eulalia"
DESCRIPTION:El martes 12 de marzo\, con motivo del Año Jubilar Eulaliense\, el alumnado de cuatro centros de Primaria de la ciudad (Octavio Augusto\, García Lorca\, Trajano y Nuestra Señora de la Antigua) representará la obra ‘EULALIA’. \nEn concreto se realizarán dos pases\, uno de ellos a las 11:00 de la mañana\, al que asistirán los centros escolares y otro a las 19:00 horas para familiares y público en general\, con entrada gratuita hasta completar el aforo. \nDirección: Manuela Honrado
URL:https://merida.es/agenda/teatro-escolar-eulalia/
CATEGORIES:Teatro
ATTACH;FMTTYPE=image/jpeg:https://merida.es/wp-content/uploads/2024/03/2024-teatro-eulalia-peq.jpg
END:VEVENT
END:VCALENDAR