﻿BEGIN:VCALENDAR
VERSION:2.0
PRODID:-//Ayuntamiento de Mérida - ECPv6.15.17.1//NONSGML v1.0//EN
CALSCALE:GREGORIAN
METHOD:PUBLISH
X-ORIGINAL-URL:https://merida.es
X-WR-CALDESC:Eventos para Ayuntamiento de Mérida
REFRESH-INTERVAL;VALUE=DURATION:PT1H
X-Robots-Tag:noindex
X-PUBLISHED-TTL:PT1H
BEGIN:VTIMEZONE
TZID:Europe/Madrid
BEGIN:DAYLIGHT
TZOFFSETFROM:+0100
TZOFFSETTO:+0200
TZNAME:CEST
DTSTART:20230326T010000
END:DAYLIGHT
BEGIN:STANDARD
TZOFFSETFROM:+0200
TZOFFSETTO:+0100
TZNAME:CET
DTSTART:20231029T010000
END:STANDARD
BEGIN:DAYLIGHT
TZOFFSETFROM:+0100
TZOFFSETTO:+0200
TZNAME:CEST
DTSTART:20240331T010000
END:DAYLIGHT
BEGIN:STANDARD
TZOFFSETFROM:+0200
TZOFFSETTO:+0100
TZNAME:CET
DTSTART:20241027T010000
END:STANDARD
BEGIN:DAYLIGHT
TZOFFSETFROM:+0100
TZOFFSETTO:+0200
TZNAME:CEST
DTSTART:20250330T010000
END:DAYLIGHT
BEGIN:STANDARD
TZOFFSETFROM:+0200
TZOFFSETTO:+0100
TZNAME:CET
DTSTART:20251026T010000
END:STANDARD
END:VTIMEZONE
BEGIN:VEVENT
DTSTART;TZID=Europe/Madrid:20240322T203000
DTEND;TZID=Europe/Madrid:20240322T203000
DTSTAMP:20260423T003019
CREATED:20240319T210550Z
LAST-MODIFIED:20240322T085140Z
UID:129183-1711139400-1711139400@merida.es
SUMMARY:Teatro: "Del grito a la palabra"
DESCRIPTION:VIERNES Día 22 de marzo de 2024. 20.30 horas \nEspectáculo: Del Grito a la Palabra\nCompañía: Verbo Producciones \nSinopsis: Este proyecto es el acto de valentía de una mujer que cree en la capacidad de sanación de las historias y en la fuerza y poder de comunicación que adquieren los artistas cuando se comprometen con su tiempo y ponen su propio dolor al servicio de una catarsis colectiva. \nSin embargo\, no es un documento de un solo caso\, es el reláejo de una época. No trata una pena concreta\, sino el dolor profundo de una humanidad que transita entre los traumas personales y sociales y su cristalización en la violencia. \nDirección: Ana García Pérez\nReparto: Paca Velardiez \nDuración: 60 min.\nPúblico recomendado: a partir de 16 años \nLas entradas gratuitas se pueden recoger en el Centro Cultural Alcazaba\, de 10 a 14 y 17 a 20 horas y en el propio Centro Cultural de Nueva Ciudad de 10 a 14 horas y desde una hora antes del comienzo de la obra.
URL:https://merida.es/agenda/teatro-del-grito-a-la-palabra-2/
LOCATION:Centro Cultural de Nueva Ciudad\, Calle Antonio Rodríguez Moñino s/n\, Mérida\, 06800\, Spain
CATEGORIES:Teatro
ATTACH;FMTTYPE=image/jpeg:https://merida.es/wp-content/uploads/2024/03/2024-del-grito-a-la-palabra-peq2.jpg
END:VEVENT
END:VCALENDAR