﻿BEGIN:VCALENDAR
VERSION:2.0
PRODID:-//Ayuntamiento de Mérida - ECPv6.15.17.1//NONSGML v1.0//EN
CALSCALE:GREGORIAN
METHOD:PUBLISH
X-ORIGINAL-URL:https://merida.es
X-WR-CALDESC:Eventos para Ayuntamiento de Mérida
REFRESH-INTERVAL;VALUE=DURATION:PT1H
X-Robots-Tag:noindex
X-PUBLISHED-TTL:PT1H
BEGIN:VTIMEZONE
TZID:Europe/Madrid
BEGIN:DAYLIGHT
TZOFFSETFROM:+0100
TZOFFSETTO:+0200
TZNAME:CEST
DTSTART:20240331T010000
END:DAYLIGHT
BEGIN:STANDARD
TZOFFSETFROM:+0200
TZOFFSETTO:+0100
TZNAME:CET
DTSTART:20241027T010000
END:STANDARD
BEGIN:DAYLIGHT
TZOFFSETFROM:+0100
TZOFFSETTO:+0200
TZNAME:CEST
DTSTART:20250330T010000
END:DAYLIGHT
BEGIN:STANDARD
TZOFFSETFROM:+0200
TZOFFSETTO:+0100
TZNAME:CET
DTSTART:20251026T010000
END:STANDARD
BEGIN:DAYLIGHT
TZOFFSETFROM:+0100
TZOFFSETTO:+0200
TZNAME:CEST
DTSTART:20260329T010000
END:DAYLIGHT
BEGIN:STANDARD
TZOFFSETFROM:+0200
TZOFFSETTO:+0100
TZNAME:CET
DTSTART:20261025T010000
END:STANDARD
END:VTIMEZONE
BEGIN:VEVENT
DTSTART;TZID=Europe/Madrid:20251030T200000
DTEND;TZID=Europe/Madrid:20251030T200000
DTSTAMP:20260422T105823
CREATED:20251027T095451Z
LAST-MODIFIED:20251027T135114Z
UID:144418-1761854400-1761854400@merida.es
SUMMARY:Comedia Musical: "Las que tienen que servir"
DESCRIPTION:Jueves 30 de octubre de 2025. 20:00 horas\nEspectáculo: LAS QUE TIENEN QUE SERVIR\nCompañía: Ayuso Producciones \nSinopsis: Las que tienen que servir nos propone un viaje en el tiempo. Esta comedia musical nos traslada al Madrid de los años 70\, ciudad que acogió a numerosas jóvenes que llegaban desde distintos lugares de España para trabajar como sirvientas en casas de familias acomodadas. Nuestras protagonistas nos muestran su trayectoria laboral\, pero sobre todo vital\, en esa etapa de sus vidas llena de contradicciones\, futuro y deseos de libertad… reflejo de la transformación social de España\, en un Madrid lleno de contrastes entre lo tradicional y lo moderno\, lo rural y lo urbano\, lo humilde y lo glamuroso… Donde los sonidos de la radio y la televisión se convirtieron en la banda sonora de sus vidas\, que son las nuestras. \nUna mirada atrás en sus comienzos para traernos hasta su presente\, momento en el que han alcanzado sus propios sueños y el empoderamiento de quienes consiguieron rebelarse contra el papel al que estaban destinadas y encontrar su lugar en un mundo que cambia. \nDramaturgia y Dirección: Javier Herrera\nIntérpretes: Raquel Palma\, Carmen Tena y Rosario Abelaira \nPúblico recomendado: Todos los públicos \nObra perteneciente a la Red Teatro de Extremadura
URL:https://merida.es/agenda/comedia-musical-las-que-tienen-que-servir/
LOCATION:Centro Cultural de Nueva Ciudad\, Calle Antonio Rodríguez Moñino s/n\, Mérida\, 06800\, Spain
CATEGORIES:Teatro
ATTACH;FMTTYPE=image/jpeg:https://merida.es/wp-content/uploads/2025/10/2025-las-que-tienen-que-servir-peq.jpg
END:VEVENT
END:VCALENDAR