﻿BEGIN:VCALENDAR
VERSION:2.0
PRODID:-//Ayuntamiento de Mérida - ECPv6.15.17.1//NONSGML v1.0//EN
CALSCALE:GREGORIAN
METHOD:PUBLISH
X-ORIGINAL-URL:https://merida.es
X-WR-CALDESC:Eventos para Ayuntamiento de Mérida
REFRESH-INTERVAL;VALUE=DURATION:PT1H
X-Robots-Tag:noindex
X-PUBLISHED-TTL:PT1H
BEGIN:VTIMEZONE
TZID:Europe/Madrid
BEGIN:DAYLIGHT
TZOFFSETFROM:+0100
TZOFFSETTO:+0200
TZNAME:CEST
DTSTART:20240331T010000
END:DAYLIGHT
BEGIN:STANDARD
TZOFFSETFROM:+0200
TZOFFSETTO:+0100
TZNAME:CET
DTSTART:20241027T010000
END:STANDARD
BEGIN:DAYLIGHT
TZOFFSETFROM:+0100
TZOFFSETTO:+0200
TZNAME:CEST
DTSTART:20250330T010000
END:DAYLIGHT
BEGIN:STANDARD
TZOFFSETFROM:+0200
TZOFFSETTO:+0100
TZNAME:CET
DTSTART:20251026T010000
END:STANDARD
BEGIN:DAYLIGHT
TZOFFSETFROM:+0100
TZOFFSETTO:+0200
TZNAME:CEST
DTSTART:20260329T010000
END:DAYLIGHT
BEGIN:STANDARD
TZOFFSETFROM:+0200
TZOFFSETTO:+0100
TZNAME:CET
DTSTART:20261025T010000
END:STANDARD
END:VTIMEZONE
BEGIN:VEVENT
DTSTART;TZID=Europe/Madrid:20251031T203000
DTEND;TZID=Europe/Madrid:20251031T203000
DTSTAMP:20260422T105940
CREATED:20250807T092440Z
LAST-MODIFIED:20251017T091355Z
UID:142690-1761942600-1761942600@merida.es
SUMMARY:Alex O’ Dogherty: Palabras mayores
DESCRIPTION:Título de la obra: Alex O’ Dogherty: Palabras mayores \nSinopsis: Alex O’Dogherty ya no mide las palabras. \nYa no tiene medida\, y lo mismo te habla de su perra\, de su propio entierro o de los nazis buenistas. De chistes en momentos inapropiados\, de lo rápido que vamos todos\, de la inteligencia artificial y hasta de los shalalailos. Lo mismo te hace un Rap\, que un Romancero. Y tiene un número especial para los que lleguen tarde. Muy completito. \nEste espectáculo es muy diferente a todo lo anterior\, porque su cabeza va a mil por hora. Así que no te sorprenda si en medio de un discurso\, te suelta otro\, aunque no venga a cuento. Curiosamente es un show más Imbécil que el anterior… Más Imbécil todavía… \nYa no las mide\, pero sigue jugando con las palabras. Le gustan mucho… hasta que se convierten en opiniones. No las soporta. Sobre todo\, las no-solicitadas. Y mucho menos a los opinadores. Los opinadores de todo. De deportes\, de cocina\, de política\, de los cuerpos de la gente\, o… de comedia. \nTiene para todos\, porque ha crecido. Ya es mayor\, como sus palabras. Por eso son Palabras Mayores. Si no lo entiendes\, ven a verlo. \nEdad recomendada: A partir de 16 años\nPase: 31 de octubre. 20:30 horas. \nMás información y entradas: https://www.teatromarialuisa.org/
URL:https://merida.es/agenda/alex-o-dogherty-palabras-mayores/
LOCATION:Teatro María Luisa\, Calle Camilo José Cela\, 9\, Mérida\, España
CATEGORIES:Teatro
ATTACH;FMTTYPE=image/jpeg:https://merida.es/wp-content/uploads/2025/08/2025-alex-palabras-mayores-peq.jpg
END:VEVENT
END:VCALENDAR