﻿BEGIN:VCALENDAR
VERSION:2.0
PRODID:-//Ayuntamiento de Mérida - ECPv6.15.17.1//NONSGML v1.0//EN
CALSCALE:GREGORIAN
METHOD:PUBLISH
X-ORIGINAL-URL:https://merida.es
X-WR-CALDESC:Eventos para Ayuntamiento de Mérida
REFRESH-INTERVAL;VALUE=DURATION:PT1H
X-Robots-Tag:noindex
X-PUBLISHED-TTL:PT1H
BEGIN:VTIMEZONE
TZID:Europe/Madrid
BEGIN:DAYLIGHT
TZOFFSETFROM:+0100
TZOFFSETTO:+0200
TZNAME:CEST
DTSTART:20240331T010000
END:DAYLIGHT
BEGIN:STANDARD
TZOFFSETFROM:+0200
TZOFFSETTO:+0100
TZNAME:CET
DTSTART:20241027T010000
END:STANDARD
BEGIN:DAYLIGHT
TZOFFSETFROM:+0100
TZOFFSETTO:+0200
TZNAME:CEST
DTSTART:20250330T010000
END:DAYLIGHT
BEGIN:STANDARD
TZOFFSETFROM:+0200
TZOFFSETTO:+0100
TZNAME:CET
DTSTART:20251026T010000
END:STANDARD
BEGIN:DAYLIGHT
TZOFFSETFROM:+0100
TZOFFSETTO:+0200
TZNAME:CEST
DTSTART:20260329T010000
END:DAYLIGHT
BEGIN:STANDARD
TZOFFSETFROM:+0200
TZOFFSETTO:+0100
TZNAME:CET
DTSTART:20261025T010000
END:STANDARD
END:VTIMEZONE
BEGIN:VEVENT
DTSTART;TZID=Europe/Madrid:20251123T180000
DTEND;TZID=Europe/Madrid:20251123T180000
DTSTAMP:20260423T053813
CREATED:20250306T115343Z
LAST-MODIFIED:20250306T115343Z
UID:138529-1763920800-1763920800@merida.es
SUMMARY:David Navarro "No tengo remedio"
DESCRIPTION:Desde que es cómico\, David Navarro no ha dejado de enfadarse en el escenario con todos aquellos que le hacían la vida imposible y con todo lo que le ponía de los nervios. Ahora ha llegado el momento de hacerlo sobre sí mismo. En “No tengo remedio”\, el artista jienense se sincera\, por primera vez\, ante su público de todos sus pecados\, de sus estúpidas manías\, de lo insoportable que puede llegar a ser y lo hace buscando la redención\, el perdón de Dios y de todos los demás\, incluido tú. Una comedia donde no pararás de reír y donde te encontrarás al David Navarro más auténtico. \nEntradas: https://www.vivaticket.es
URL:https://merida.es/agenda/david-navarro-no-tengo-remedio/
LOCATION:Palacio de Congresos\, Avda. del Rio s/n\, Mérida
CATEGORIES:Teatro
ATTACH;FMTTYPE=image/jpeg:https://merida.es/wp-content/uploads/2025/03/2025-david-navarro-peq.jpg
END:VEVENT
END:VCALENDAR