﻿BEGIN:VCALENDAR
VERSION:2.0
PRODID:-//Ayuntamiento de Mérida - ECPv6.15.17.1//NONSGML v1.0//EN
CALSCALE:GREGORIAN
METHOD:PUBLISH
X-WR-CALNAME:Ayuntamiento de Mérida
X-ORIGINAL-URL:https://merida.es
X-WR-CALDESC:Eventos para Ayuntamiento de Mérida
REFRESH-INTERVAL;VALUE=DURATION:PT1H
X-Robots-Tag:noindex
X-PUBLISHED-TTL:PT1H
BEGIN:VTIMEZONE
TZID:Europe/Madrid
BEGIN:DAYLIGHT
TZOFFSETFROM:+0100
TZOFFSETTO:+0200
TZNAME:CEST
DTSTART:20240331T010000
END:DAYLIGHT
BEGIN:STANDARD
TZOFFSETFROM:+0200
TZOFFSETTO:+0100
TZNAME:CET
DTSTART:20241027T010000
END:STANDARD
BEGIN:DAYLIGHT
TZOFFSETFROM:+0100
TZOFFSETTO:+0200
TZNAME:CEST
DTSTART:20250330T010000
END:DAYLIGHT
BEGIN:STANDARD
TZOFFSETFROM:+0200
TZOFFSETTO:+0100
TZNAME:CET
DTSTART:20251026T010000
END:STANDARD
BEGIN:DAYLIGHT
TZOFFSETFROM:+0100
TZOFFSETTO:+0200
TZNAME:CEST
DTSTART:20260329T010000
END:DAYLIGHT
BEGIN:STANDARD
TZOFFSETFROM:+0200
TZOFFSETTO:+0100
TZNAME:CET
DTSTART:20261025T010000
END:STANDARD
BEGIN:DAYLIGHT
TZOFFSETFROM:+0100
TZOFFSETTO:+0200
TZNAME:CEST
DTSTART:20270328T010000
END:DAYLIGHT
BEGIN:STANDARD
TZOFFSETFROM:+0200
TZOFFSETTO:+0100
TZNAME:CET
DTSTART:20271031T010000
END:STANDARD
END:VTIMEZONE
BEGIN:VEVENT
DTSTART;VALUE=DATE:20251128
DTEND;VALUE=DATE:20260107
DTSTAMP:20260420T020848
CREATED:20251126T122042Z
LAST-MODIFIED:20251218T230415Z
UID:145112-1764288000-1767743999@merida.es
SUMMARY:Navidad en Mérida
DESCRIPTION:Numerosas actividades tendrán lugar esta Navidad en Mérida que se desarrollen en distintos puntos de la ciudad con la colaboración de colectivos culturales\, deportivos\, sociales y religiosos en una programación en la que destaca la Proyección de un espectáculo de imagen\, luz y sonido sobre la fachada del Palacio de la China\, del 15 al 21 de diciembre. \nEl viernes 28 de noviembre\, a las 19:00 horas\, tras el encendido de la iluminación especial\, la Plaza de España acogerá el Concierto de Celia Vergara con la Mérida Big Bang y el sábado\, a partir de las 18:00 horas\, se celebrará la Fiesta DJs de Europa FM “Hola Mérida” para dar la bienvenida a la Navidad en la ciudad. \nEn el apartado musical\, habrá tres zambombás durante las navidades en la Plaza de España y\, el 27 de diciembre\, un concierto tributo a Mecano y la actuación de los Casetes\, finalizando la parte musical con las preuvas infantiles y adultas el 29 de diciembre\, tanto por la mañana como por la tarde-noche\, respectivamente. \nPor otro lado\, también hay que destacar la instalación del Gran Belén Municipal en el Centro Cultural Alcazaba en colaboración con la Asociación de Belenistas de Mérida y el Misterio de tamaño natural en el Patio Noble de la Asamblea de Extremadura junto a dioramas navideños. También\, un año más\, el Museo ha montado el Belén de Playmobil en la Colección Visigoda. \nPor otro lado\, además de la San Silvestre el 30 de diciembre\, más de 20 colectivos están trabajando ya en la preparación de la Cabalgata de Reyes 2026 que se celebrará el 5 de enero. \nPor otro lado\, en el reformado Parque López de Ayala estará instalado el Mercado Artesanal Navideño\, con el objetivo de fomentar el comercio local y a los artesanos y artesanas de la ciudad y que estará abierto hasta el 5 de enero. Por último\, la delegada ha destacado Navilandia\, que abrió sus puertas el pasado viernes en IFEME y que estará hasta el fin de semana posterior a Reyes. \nProgramación Navidad en Mérida 2025 \nProgramación Navidad en Mérida 2025 (Lectura Fácil)
URL:https://merida.es/agenda/navidad-en-merida-2025/
LOCATION:Varios puntos de la ciudad\, Mérida
CATEGORIES:Infantil,Música,Navidad,Ocio,Santa Eulalia,Teatro
ATTACH;FMTTYPE=image/jpeg:https://merida.es/wp-content/uploads/2024/11/2024-navidad-en-merida-banner.jpg
END:VEVENT
BEGIN:VEVENT
DTSTART;TZID=Europe/Madrid:20251204T180000
DTEND;TZID=Europe/Madrid:20251204T180000
DTSTAMP:20260420T020848
CREATED:20251121T082254Z
LAST-MODIFIED:20251201T091342Z
UID:144997-1764871200-1764871200@merida.es
SUMMARY:Espectáculo Familiar: "Pedro y el lobo"
DESCRIPTION:Espectáculo: «PEDRO Y EL LOBO»\nCompañía: Asaco Producciones y Anam Camerata \nSinopsis: Pedro y el Lobo\, la célebre obra musical de Serguéi Prokófiev\, cobra nueva vida en esta innovadora producción\, que combina la magia de la música sinfónica con el arte del clown. Esta colaboración única entre músicos y artistas escénicos ofrece una experiencia interactiva y educativa que encantará a audiencias de todas las edades. \nEsta versión del famoso cuento musical\, compuesta en 1936 por Prokófiev\, introduce a los niños y niñas en el mundo de los instrumentos de la orquesta de una manera divertida y didáctica a través de su guión original. Lo que hace única a esta propuesta es la colaboración con la compañía de clown ASACO. Su experiencia de más de 25 años haciendo clown por todo el mundo\, aporta una puesta en escena fresca y dinámica\, llena de humor\, en la que el público se convierte en un protagonista más de la historia. \nActores: Francisco Javier Ceballos y José A. Maestro\nDirector orquesta: Miguel Morán \nEdad: Para todos los públicos\nDuración: 60 minutos \nEntrada: 3€\nVenta de entradas anticipada: Centro Cultural de Nueva Ciudad y Centro Cultural Alcazaba\, de 10 a 14 y de 17 a 20 horas. \nObra perteneciente a la Red de Teatro de Extremadura
URL:https://merida.es/agenda/espectaculo-familiar-pedro-y-el-lobo/
LOCATION:Centro Cultural de Nueva Ciudad\, Calle Antonio Rodríguez Moñino s/n\, Mérida\, 06800\, Spain
CATEGORIES:Infantil,Teatro
ATTACH;FMTTYPE=image/jpeg:https://merida.es/wp-content/uploads/2025/11/2025-pedro-lobo-peq.jpg
END:VEVENT
BEGIN:VEVENT
DTSTART;TZID=Europe/Madrid:20251204T183000
DTEND;TZID=Europe/Madrid:20251204T183000
DTSTAMP:20260420T020848
CREATED:20251201T082738Z
LAST-MODIFIED:20251201T082738Z
UID:145185-1764873000-1764873000@merida.es
SUMMARY:¡Este Jueves te Cuento!: "Cuentos de autora"
DESCRIPTION:Vuelven los Cuentacuentos al Rincon de los Cuentos del Centro Cultural Alcazaba organizados por la Biblioteca Municipal Juan Pablo Forner bajo la actividad ‘¡Este Jueves te Cuento!’. \nJueves 20 de noviembre. 18:30h\nLULITA MARIQUITA\nLourdes Gallardo \nJueves 27 de noviembre. 18:30h\nCUENTOS DEL MÁS ATRÁS\nSonia Luchena \nJueves 4 de diciembre. 18:30h\nCUENTOS DE AUTORA\nPilar Gálvez \nJueves 18 de diciembre. 18:30h\nCUENTOS DEL MÁS ATRÁS\nSonia Luchena
URL:https://merida.es/agenda/este-jueves-te-cuento-cuentos-de-autora/
LOCATION:Centro Cultural Alcazaba\, Calle John Lennon\, 5\, Mérida
CATEGORIES:Infantil,Teatro
ATTACH;FMTTYPE=image/jpeg:https://merida.es/wp-content/uploads/2025/12/2025-jueves-te-cuento-pilar-galvez.jpg
END:VEVENT
END:VCALENDAR