﻿BEGIN:VCALENDAR
VERSION:2.0
PRODID:-//Ayuntamiento de Mérida - ECPv6.15.17.1//NONSGML v1.0//EN
CALSCALE:GREGORIAN
METHOD:PUBLISH
X-WR-CALNAME:Ayuntamiento de Mérida
X-ORIGINAL-URL:https://merida.es
X-WR-CALDESC:Eventos para Ayuntamiento de Mérida
REFRESH-INTERVAL;VALUE=DURATION:PT1H
X-Robots-Tag:noindex
X-PUBLISHED-TTL:PT1H
BEGIN:VTIMEZONE
TZID:Europe/Madrid
BEGIN:DAYLIGHT
TZOFFSETFROM:+0100
TZOFFSETTO:+0200
TZNAME:CEST
DTSTART:20240331T010000
END:DAYLIGHT
BEGIN:STANDARD
TZOFFSETFROM:+0200
TZOFFSETTO:+0100
TZNAME:CET
DTSTART:20241027T010000
END:STANDARD
BEGIN:DAYLIGHT
TZOFFSETFROM:+0100
TZOFFSETTO:+0200
TZNAME:CEST
DTSTART:20250330T010000
END:DAYLIGHT
BEGIN:STANDARD
TZOFFSETFROM:+0200
TZOFFSETTO:+0100
TZNAME:CET
DTSTART:20251026T010000
END:STANDARD
BEGIN:DAYLIGHT
TZOFFSETFROM:+0100
TZOFFSETTO:+0200
TZNAME:CEST
DTSTART:20260329T010000
END:DAYLIGHT
BEGIN:STANDARD
TZOFFSETFROM:+0200
TZOFFSETTO:+0100
TZNAME:CET
DTSTART:20261025T010000
END:STANDARD
BEGIN:DAYLIGHT
TZOFFSETFROM:+0100
TZOFFSETTO:+0200
TZNAME:CEST
DTSTART:20270328T010000
END:DAYLIGHT
BEGIN:STANDARD
TZOFFSETFROM:+0200
TZOFFSETTO:+0100
TZNAME:CET
DTSTART:20271031T010000
END:STANDARD
END:VTIMEZONE
BEGIN:VEVENT
DTSTART;VALUE=DATE:20251128
DTEND;VALUE=DATE:20260107
DTSTAMP:20260420T090040
CREATED:20251126T122042Z
LAST-MODIFIED:20251218T230415Z
UID:145112-1764288000-1767743999@merida.es
SUMMARY:Navidad en Mérida
DESCRIPTION:Numerosas actividades tendrán lugar esta Navidad en Mérida que se desarrollen en distintos puntos de la ciudad con la colaboración de colectivos culturales\, deportivos\, sociales y religiosos en una programación en la que destaca la Proyección de un espectáculo de imagen\, luz y sonido sobre la fachada del Palacio de la China\, del 15 al 21 de diciembre. \nEl viernes 28 de noviembre\, a las 19:00 horas\, tras el encendido de la iluminación especial\, la Plaza de España acogerá el Concierto de Celia Vergara con la Mérida Big Bang y el sábado\, a partir de las 18:00 horas\, se celebrará la Fiesta DJs de Europa FM “Hola Mérida” para dar la bienvenida a la Navidad en la ciudad. \nEn el apartado musical\, habrá tres zambombás durante las navidades en la Plaza de España y\, el 27 de diciembre\, un concierto tributo a Mecano y la actuación de los Casetes\, finalizando la parte musical con las preuvas infantiles y adultas el 29 de diciembre\, tanto por la mañana como por la tarde-noche\, respectivamente. \nPor otro lado\, también hay que destacar la instalación del Gran Belén Municipal en el Centro Cultural Alcazaba en colaboración con la Asociación de Belenistas de Mérida y el Misterio de tamaño natural en el Patio Noble de la Asamblea de Extremadura junto a dioramas navideños. También\, un año más\, el Museo ha montado el Belén de Playmobil en la Colección Visigoda. \nPor otro lado\, además de la San Silvestre el 30 de diciembre\, más de 20 colectivos están trabajando ya en la preparación de la Cabalgata de Reyes 2026 que se celebrará el 5 de enero. \nPor otro lado\, en el reformado Parque López de Ayala estará instalado el Mercado Artesanal Navideño\, con el objetivo de fomentar el comercio local y a los artesanos y artesanas de la ciudad y que estará abierto hasta el 5 de enero. Por último\, la delegada ha destacado Navilandia\, que abrió sus puertas el pasado viernes en IFEME y que estará hasta el fin de semana posterior a Reyes. \nProgramación Navidad en Mérida 2025 \nProgramación Navidad en Mérida 2025 (Lectura Fácil)
URL:https://merida.es/agenda/navidad-en-merida-2025/
LOCATION:Varios puntos de la ciudad\, Mérida
CATEGORIES:Infantil,Música,Navidad,Ocio,Santa Eulalia,Teatro
ATTACH;FMTTYPE=image/jpeg:https://merida.es/wp-content/uploads/2024/11/2024-navidad-en-merida-banner.jpg
END:VEVENT
BEGIN:VEVENT
DTSTART;TZID=Europe/Madrid:20251205T110000
DTEND;TZID=Europe/Madrid:20251205T110000
DTSTAMP:20260420T090040
CREATED:20251202T113137Z
LAST-MODIFIED:20251202T113137Z
UID:145270-1764932400-1764932400@merida.es
SUMMARY:Cuentacuentos "El vendedor de humo" en Lengua de Signos Española
DESCRIPTION:Con motivo de la Celebración del Día Internacional de las Personas con Discapacidad\, el 3 de diciembre\, la Biblioteca Municipal de Nuestra Señora de La Antigua\, en colaboración con la Federación Extremeña de Asociaciones de Personas Sordas de Extremadura FEXAS\, ha organizado un Cuentacuentos interpretado en lengua de signos española que lleva por título ‘El Vendedor de humo’. \nEn él que participarán alumnos y alumnas de 5º y 6º curso de Educación Primaria pertenecientes a los Colegios Nuestra Sra. de la Antigua\, Antonio Machado\, San Luis y así como del Centro Ocupacional Proserpina del Ayuntamiento. \nLa actividad se llevará a cabo en el auditorio del Centro Cultural de Nuestra Sra. de la Antigua el día 5 de diciembre a las 11 horas.
URL:https://merida.es/agenda/cuentacuentos-el-vendedor-de-humo-en-lengua-de-signos-espanola/
LOCATION:Centro Cultural La Antigua\, Calle Nerja s/n\, Mérida\, Badajoz\, 06800\, Spain
CATEGORIES:Infantil,Teatro
ATTACH;FMTTYPE=image/jpeg:https://merida.es/wp-content/uploads/2025/12/2025-cuentacuentos-vendedor-humo-peq2.jpg
END:VEVENT
BEGIN:VEVENT
DTSTART;TZID=Europe/Madrid:20251205T203000
DTEND;TZID=Europe/Madrid:20251205T203000
DTSTAMP:20260420T090041
CREATED:20251006T115824Z
LAST-MODIFIED:20251006T115824Z
UID:143992-1764966600-1764966600@merida.es
SUMMARY:Teatro: "Atra Bilis"
DESCRIPTION:VIERNES 5 DE DICIEMBRE 20:30H \nEspectáculo: Atra Bilis\nCompañía: La Estampa Teatro \nSinopsis:\nCuatro ancianas llenas de rencor y amargura se reúnen en el velatorio del esposo de Nazaria Alba Montenegro en una noche de tormenta. El ambiente es propicio para la conversación y surgen los recuerdos\, los desamores\, los secretos y los odios ocultos\, que abren la tapa de los truenos. Odios\, secretos y deseos saldrán a relucir en el transcurso de una noche de tormenta. Desde el asesinato de un bebé\, hasta la muerte de un gato… desde infidelidades cometidas hace cincuenta años\, hasta engaños del día anterior… ‘Atra bilis’ es una farsa que combina elementos del grotesco carnavalesco y del grotesco demoniaco y espectral para crear monstruos «pintorescamente» esperpénticos\, en un ambiente espectral que parece anunciar el inminente Apocalipsis. \nDramaturgia: Laila Ripoll\nDirección: Sandro Cordero\nIntérpretes: Laura Orduña\, Cristina Lorenzo\, Bea Canteli y Concha Rodríguez \nEdad Recomendada: a partir de 16 años \nEntrada única: 5€\nEntrada con Carné Joven: 2\,50€\nHorario de taquilla: 4 y 5 de diciembre\, de 11:00 a 13:00 y de 18:30 a 20:30 horas. Reservas en salatrajanomerida@gmail.com
URL:https://merida.es/agenda/teatro-atra-bilis/
LOCATION:Sala Trajano\, Calle Muza\, 50\, Mérida
CATEGORIES:Teatro
ATTACH;FMTTYPE=image/jpeg:https://merida.es/wp-content/uploads/2025/10/atra-bilis-peq.jpg
END:VEVENT
END:VCALENDAR