﻿BEGIN:VCALENDAR
VERSION:2.0
PRODID:-//Ayuntamiento de Mérida - ECPv6.15.17.1//NONSGML v1.0//EN
CALSCALE:GREGORIAN
METHOD:PUBLISH
X-WR-CALNAME:Ayuntamiento de Mérida
X-ORIGINAL-URL:https://merida.es
X-WR-CALDESC:Eventos para Ayuntamiento de Mérida
REFRESH-INTERVAL;VALUE=DURATION:PT1H
X-Robots-Tag:noindex
X-PUBLISHED-TTL:PT1H
BEGIN:VTIMEZONE
TZID:Europe/Madrid
BEGIN:DAYLIGHT
TZOFFSETFROM:+0100
TZOFFSETTO:+0200
TZNAME:CEST
DTSTART:20240331T010000
END:DAYLIGHT
BEGIN:STANDARD
TZOFFSETFROM:+0200
TZOFFSETTO:+0100
TZNAME:CET
DTSTART:20241027T010000
END:STANDARD
BEGIN:DAYLIGHT
TZOFFSETFROM:+0100
TZOFFSETTO:+0200
TZNAME:CEST
DTSTART:20250330T010000
END:DAYLIGHT
BEGIN:STANDARD
TZOFFSETFROM:+0200
TZOFFSETTO:+0100
TZNAME:CET
DTSTART:20251026T010000
END:STANDARD
BEGIN:DAYLIGHT
TZOFFSETFROM:+0100
TZOFFSETTO:+0200
TZNAME:CEST
DTSTART:20260329T010000
END:DAYLIGHT
BEGIN:STANDARD
TZOFFSETFROM:+0200
TZOFFSETTO:+0100
TZNAME:CET
DTSTART:20261025T010000
END:STANDARD
BEGIN:DAYLIGHT
TZOFFSETFROM:+0100
TZOFFSETTO:+0200
TZNAME:CEST
DTSTART:20270328T010000
END:DAYLIGHT
BEGIN:STANDARD
TZOFFSETFROM:+0200
TZOFFSETTO:+0100
TZNAME:CET
DTSTART:20271031T010000
END:STANDARD
END:VTIMEZONE
BEGIN:VEVENT
DTSTART;VALUE=DATE:20251128
DTEND;VALUE=DATE:20260107
DTSTAMP:20260420T072517
CREATED:20251126T122042Z
LAST-MODIFIED:20251218T230415Z
UID:145112-1764288000-1767743999@merida.es
SUMMARY:Navidad en Mérida
DESCRIPTION:Numerosas actividades tendrán lugar esta Navidad en Mérida que se desarrollen en distintos puntos de la ciudad con la colaboración de colectivos culturales\, deportivos\, sociales y religiosos en una programación en la que destaca la Proyección de un espectáculo de imagen\, luz y sonido sobre la fachada del Palacio de la China\, del 15 al 21 de diciembre. \nEl viernes 28 de noviembre\, a las 19:00 horas\, tras el encendido de la iluminación especial\, la Plaza de España acogerá el Concierto de Celia Vergara con la Mérida Big Bang y el sábado\, a partir de las 18:00 horas\, se celebrará la Fiesta DJs de Europa FM “Hola Mérida” para dar la bienvenida a la Navidad en la ciudad. \nEn el apartado musical\, habrá tres zambombás durante las navidades en la Plaza de España y\, el 27 de diciembre\, un concierto tributo a Mecano y la actuación de los Casetes\, finalizando la parte musical con las preuvas infantiles y adultas el 29 de diciembre\, tanto por la mañana como por la tarde-noche\, respectivamente. \nPor otro lado\, también hay que destacar la instalación del Gran Belén Municipal en el Centro Cultural Alcazaba en colaboración con la Asociación de Belenistas de Mérida y el Misterio de tamaño natural en el Patio Noble de la Asamblea de Extremadura junto a dioramas navideños. También\, un año más\, el Museo ha montado el Belén de Playmobil en la Colección Visigoda. \nPor otro lado\, además de la San Silvestre el 30 de diciembre\, más de 20 colectivos están trabajando ya en la preparación de la Cabalgata de Reyes 2026 que se celebrará el 5 de enero. \nPor otro lado\, en el reformado Parque López de Ayala estará instalado el Mercado Artesanal Navideño\, con el objetivo de fomentar el comercio local y a los artesanos y artesanas de la ciudad y que estará abierto hasta el 5 de enero. Por último\, la delegada ha destacado Navilandia\, que abrió sus puertas el pasado viernes en IFEME y que estará hasta el fin de semana posterior a Reyes. \nProgramación Navidad en Mérida 2025 \nProgramación Navidad en Mérida 2025 (Lectura Fácil)
URL:https://merida.es/agenda/navidad-en-merida-2025/
LOCATION:Varios puntos de la ciudad\, Mérida
CATEGORIES:Infantil,Música,Navidad,Ocio,Santa Eulalia,Teatro
ATTACH;FMTTYPE=image/jpeg:https://merida.es/wp-content/uploads/2024/11/2024-navidad-en-merida-banner.jpg
END:VEVENT
BEGIN:VEVENT
DTSTART;TZID=Europe/Madrid:20251213T200000
DTEND;TZID=Europe/Madrid:20251213T200000
DTSTAMP:20260420T072517
CREATED:20250826T063733Z
LAST-MODIFIED:20250826T063812Z
UID:142965-1765656000-1765656000@merida.es
SUMMARY:Shado Cleptómago
DESCRIPTION:La magia nunca había sido tan audaz. Shado\, el ilusionista que dejó sin palabras a Risto Mejide en Got Talent\, llega con su espectáculo Cleptómago\, un show donde la magia se vive al límite. \nPickpocket\, mentalismo y magia urbana se fusionan en una experiencia donde lo imposible sucede ante tus propios ojos. Con la destreza de un carterista y el ingenio de un maestro del engaño\, Shado desafía tu percepción y te sumerge en un juego en el que nadie está a salvo… ni siquiera tu cartera. \nDesde las redes sociales hasta el escenario\, este mago viral y transgresor ha llevado su arte a miles de espectadores\, redefiniendo la magia con un estilo moderno\, fresco y electrizante. ¿Listo para descubrir lo que nunca creíste posible? Bienvenido a Cleptómago\, un espectáculo donde la magia no solo se ve… también se siente. \nEntradas: https://www.ctickets.es
URL:https://merida.es/agenda/shado-cleptomago/
LOCATION:Palacio de Congresos\, Avda. del Rio s/n\, Mérida
CATEGORIES:Teatro
ATTACH;FMTTYPE=image/jpeg:https://merida.es/wp-content/uploads/2025/08/2025-shado-merida-peq2.jpg
END:VEVENT
BEGIN:VEVENT
DTSTART;TZID=Europe/Madrid:20251213T203000
DTEND;TZID=Europe/Madrid:20251213T203000
DTSTAMP:20260420T072517
CREATED:20250807T105507Z
LAST-MODIFIED:20251211T091407Z
UID:142711-1765657800-1765657800@merida.es
SUMMARY:Teatro: "Goteras"
DESCRIPTION:Título del espectáculo: Goteras\nCompañía: MIC Producciones y Producciones 099 \nSinopsis: Toni es un joven dramaturgo con un futuro prometedor. Una noche cualquiera\, aparecen unas goteras en su techo. Lo que debería ser un simple accidente doméstico\, se acaba transformando en el momento más importante de su vida\, cuando descubre que su vecino es él mismo treinta años más tarde. Las cosas en el futuro no parecen haber ido como Toni se imaginaba y las dos réplicas intentarán modificar aquello que ha fallado en el presente\, para conseguir así el mejor futuro posible. Este espectáculo pretende jugar con un género poco común en el teatro: la ciencia ficción. \nA partir de los diálogos y los juegos escenográficos\, la obra pretende viajar a través del tiempo\, mientras intenta reflexionar sobre el significado de hacerse mayor\, la lucha entre las expectativas y la cruda realidad y el valor del éxito. \nY todo sin perder de vista la comedia. Porque encontrarte con tu yo del futuro y verte convertido en algo que nunca hubieras imaginado\, puede llegar a ser trágicamente cómico. \nAutor: Marc G. de la Varga\nDirector: Borja Rodríguez\nReparto: Fernando Albizu\, Gonzalo Ramos\, Gloria Albalate \nEdad recomendada: A partir de 16 años\nPases: 13 de diciembre: 20:30 horas. \nMás información y entradas: https://www.teatromarialuisa.org/
URL:https://merida.es/agenda/teatro-goteras/
LOCATION:Teatro María Luisa\, Calle Camilo José Cela\, 9\, Mérida\, España
CATEGORIES:Teatro
ATTACH;FMTTYPE=image/jpeg:https://merida.es/wp-content/uploads/2025/08/2025-goteras-peq.jpg
END:VEVENT
END:VCALENDAR