﻿BEGIN:VCALENDAR
VERSION:2.0
PRODID:-//Ayuntamiento de Mérida - ECPv6.15.17.1//NONSGML v1.0//EN
CALSCALE:GREGORIAN
METHOD:PUBLISH
X-ORIGINAL-URL:https://merida.es
X-WR-CALDESC:Eventos para Ayuntamiento de Mérida
REFRESH-INTERVAL;VALUE=DURATION:PT1H
X-Robots-Tag:noindex
X-PUBLISHED-TTL:PT1H
BEGIN:VTIMEZONE
TZID:Europe/Madrid
BEGIN:DAYLIGHT
TZOFFSETFROM:+0100
TZOFFSETTO:+0200
TZNAME:CEST
DTSTART:20250330T010000
END:DAYLIGHT
BEGIN:STANDARD
TZOFFSETFROM:+0200
TZOFFSETTO:+0100
TZNAME:CET
DTSTART:20251026T010000
END:STANDARD
BEGIN:DAYLIGHT
TZOFFSETFROM:+0100
TZOFFSETTO:+0200
TZNAME:CEST
DTSTART:20260329T010000
END:DAYLIGHT
BEGIN:STANDARD
TZOFFSETFROM:+0200
TZOFFSETTO:+0100
TZNAME:CET
DTSTART:20261025T010000
END:STANDARD
BEGIN:DAYLIGHT
TZOFFSETFROM:+0100
TZOFFSETTO:+0200
TZNAME:CEST
DTSTART:20270328T010000
END:DAYLIGHT
BEGIN:STANDARD
TZOFFSETFROM:+0200
TZOFFSETTO:+0100
TZNAME:CET
DTSTART:20271031T010000
END:STANDARD
END:VTIMEZONE
BEGIN:VEVENT
DTSTART;TZID=Europe/Madrid:20260130T210000
DTEND;TZID=Europe/Madrid:20260130T210000
DTSTAMP:20260420T004444
CREATED:20250919T071619Z
LAST-MODIFIED:20250919T071619Z
UID:143486-1769806800-1769806800@merida.es
SUMMARY:Aguilera y Meni. Misión Impro-sible
DESCRIPTION:MISIÓN: IMPRO-SIBLE es un show sin guion donde cada función es única\, porque tú también formas parte de la historia. Un viaje delirante por escenas imposibles\, retos absurdos\, llamadas telefónicas inesperadas\, rayos láser… y un teléfono rojo que puede cambiarlo todo. \nAguilera y Mení forman un tándem cómico explosivo que arrasa allá por donde pasa. Con años de experiencia en teatro\, televisión y espectáculos en vivo\, han convertido la improvisación en su sello personal: situaciones delirantes\, personajes creados al instante\, interacción constante con el público y un ritmo vertiginoso que no da tregua. Todo con una única misión: hacerte reír hasta que duela. \nEntradas: https://ninonaentradas.com
URL:https://merida.es/agenda/aguilera-y-meni-mision-impro-sible-2026/
LOCATION:Palacio de Congresos\, Avda. del Rio s/n\, Mérida
CATEGORIES:Teatro
ATTACH;FMTTYPE=image/jpeg:https://merida.es/wp-content/uploads/2025/09/2026-aguilera-meni-peq.jpg
END:VEVENT
END:VCALENDAR