﻿BEGIN:VCALENDAR
VERSION:2.0
PRODID:-//Ayuntamiento de Mérida - ECPv6.15.17.1//NONSGML v1.0//EN
CALSCALE:GREGORIAN
METHOD:PUBLISH
X-ORIGINAL-URL:https://merida.es
X-WR-CALDESC:Eventos para Ayuntamiento de Mérida
REFRESH-INTERVAL;VALUE=DURATION:PT1H
X-Robots-Tag:noindex
X-PUBLISHED-TTL:PT1H
BEGIN:VTIMEZONE
TZID:Europe/Madrid
BEGIN:DAYLIGHT
TZOFFSETFROM:+0100
TZOFFSETTO:+0200
TZNAME:CEST
DTSTART:20250330T010000
END:DAYLIGHT
BEGIN:STANDARD
TZOFFSETFROM:+0200
TZOFFSETTO:+0100
TZNAME:CET
DTSTART:20251026T010000
END:STANDARD
BEGIN:DAYLIGHT
TZOFFSETFROM:+0100
TZOFFSETTO:+0200
TZNAME:CEST
DTSTART:20260329T010000
END:DAYLIGHT
BEGIN:STANDARD
TZOFFSETFROM:+0200
TZOFFSETTO:+0100
TZNAME:CET
DTSTART:20261025T010000
END:STANDARD
BEGIN:DAYLIGHT
TZOFFSETFROM:+0100
TZOFFSETTO:+0200
TZNAME:CEST
DTSTART:20270328T010000
END:DAYLIGHT
BEGIN:STANDARD
TZOFFSETFROM:+0200
TZOFFSETTO:+0100
TZNAME:CET
DTSTART:20271031T010000
END:STANDARD
END:VTIMEZONE
BEGIN:VEVENT
DTSTART;TZID=Europe/Madrid:20260207T203000
DTEND;TZID=Europe/Madrid:20260207T203000
DTSTAMP:20260420T035401
CREATED:20260202T230222Z
LAST-MODIFIED:20260205T155024Z
UID:146330-1770496200-1770496200@merida.es
SUMMARY:Teatro: "El Cielo no les responde"
DESCRIPTION:Espectáculo: El cielo no les responde\nCompañía: ESTE – Estação Teatral y Marmôre Distribución \nSinopsis: ¿Qué hacer cuando es el propio clima el que nos empuja fuera de nuestra tierra? ¿Y cuando la brutalidad de los regímenes autocráticos y la guerra nos arroja a la incertidumbre de la vida misma? Cuando permanecer se vuelve imposible\, solo podemos avanzar armados con coraje y esperanza. Buscar la felicidad en otra parte. El viaje siempre será largo y lleno de contratiempos\, pero siempre será mejor que quedarse en un camino que simplemente se desvanece. La necesidad de sobrevivir nos obliga a avanzar\, sortear obstáculos y cruzar fronteras\, incluidas las que están cerradas.  \nUn encuentro con el futuro\, donde la felicidad de quien parte está también en manos de quien acoge. “El cielo no les responde” cuenta\, a través del cuerpo\, el gesto\, las emociones\, la sencillez y el juego escénico\, el viaje de dos personajes que intentan atravesar el mar hasta el otro lado en busca de una oportunidad. Nadie deja su tierra natal a la ligera\, pero en otro país es posible empezar de nuevo.  \nConseguir las necesidades más básicas puede resultar extremadamente difícil\, la barrera del idioma\, el choque cultural y la desconfianza de quienes les acogen hacen que llegar no signifique el final del viaje. Sin embargo\, Saeed y Narine no se dan por vencidos\, buscan trabajo\, intentan contribuir e integrarse en un país diferente. Un país que a veces piensa que la elección fue suya y donde\, a veces\, el cielo tampoco les responde. \nPúblico recomendado: A partir de 12 años.\nEntrada: 5€\nTaquilla: Días 6 y 7. Horario de mañana: de 11:00 a 13:00 h. Horario de tarde: de 18:30 a 20:30h. Reservas en el email: salatrajanomerida@gmail.com
URL:https://merida.es/agenda/teatro-el-cielo-no-les-responde/
LOCATION:Sala Trajano\, Calle Muza\, 50\, Mérida
CATEGORIES:Teatro
ATTACH;FMTTYPE=image/jpeg:https://merida.es/wp-content/uploads/2026/02/2026-cielo-no-les-responde-peq.jpg
END:VEVENT
END:VCALENDAR