﻿BEGIN:VCALENDAR
VERSION:2.0
PRODID:-//Ayuntamiento de Mérida - ECPv6.15.17.1//NONSGML v1.0//EN
CALSCALE:GREGORIAN
METHOD:PUBLISH
X-ORIGINAL-URL:https://merida.es
X-WR-CALDESC:Eventos para Ayuntamiento de Mérida
REFRESH-INTERVAL;VALUE=DURATION:PT1H
X-Robots-Tag:noindex
X-PUBLISHED-TTL:PT1H
BEGIN:VTIMEZONE
TZID:Europe/Madrid
BEGIN:DAYLIGHT
TZOFFSETFROM:+0100
TZOFFSETTO:+0200
TZNAME:CEST
DTSTART:20250330T010000
END:DAYLIGHT
BEGIN:STANDARD
TZOFFSETFROM:+0200
TZOFFSETTO:+0100
TZNAME:CET
DTSTART:20251026T010000
END:STANDARD
BEGIN:DAYLIGHT
TZOFFSETFROM:+0100
TZOFFSETTO:+0200
TZNAME:CEST
DTSTART:20260329T010000
END:DAYLIGHT
BEGIN:STANDARD
TZOFFSETFROM:+0200
TZOFFSETTO:+0100
TZNAME:CET
DTSTART:20261025T010000
END:STANDARD
BEGIN:DAYLIGHT
TZOFFSETFROM:+0100
TZOFFSETTO:+0200
TZNAME:CEST
DTSTART:20270328T010000
END:DAYLIGHT
BEGIN:STANDARD
TZOFFSETFROM:+0200
TZOFFSETTO:+0100
TZNAME:CET
DTSTART:20271031T010000
END:STANDARD
END:VTIMEZONE
BEGIN:VEVENT
DTSTART;TZID=Europe/Madrid:20261025T180000
DTEND;TZID=Europe/Madrid:20261025T180000
DTSTAMP:20260421T113715
CREATED:20260421T090416Z
LAST-MODIFIED:20260421T090430Z
UID:148182-1792951200-1792951200@merida.es
SUMMARY:Circo Musical de Mickey Mouse
DESCRIPTION:El «Tributo Circo Musical de Mickey Mouse» es un espectáculo familiar vibrante que combina magia\, canciones clásicas y coreografías divertidas. La trama suele presentar a Mickey como maestro de ceremonias\, creando un ambiente interactivo de amistad y fantasía junto a los personajes clásicos de Disney\, diseñado para disfrutar en familia. \nEntradas: https://www.palcongrex.es/
URL:https://merida.es/agenda/circo-musical-de-mickey-mouse/
LOCATION:Palacio de Congresos\, Avda. del Rio s/n\, Mérida
CATEGORIES:Infantil,Teatro
ATTACH;FMTTYPE=image/jpeg:https://merida.es/wp-content/uploads/2026/04/2026-circo-musical-mickey-peq.jpeg
END:VEVENT
END:VCALENDAR