﻿BEGIN:VCALENDAR
VERSION:2.0
PRODID:-//Ayuntamiento de Mérida - ECPv6.15.17.1//NONSGML v1.0//EN
CALSCALE:GREGORIAN
METHOD:PUBLISH
X-ORIGINAL-URL:https://merida.es
X-WR-CALDESC:Eventos para Ayuntamiento de Mérida
REFRESH-INTERVAL;VALUE=DURATION:PT1H
X-Robots-Tag:noindex
X-PUBLISHED-TTL:PT1H
BEGIN:VTIMEZONE
TZID:Europe/Madrid
BEGIN:DAYLIGHT
TZOFFSETFROM:+0100
TZOFFSETTO:+0200
TZNAME:CEST
DTSTART:20210328T010000
END:DAYLIGHT
BEGIN:STANDARD
TZOFFSETFROM:+0200
TZOFFSETTO:+0100
TZNAME:CET
DTSTART:20211031T010000
END:STANDARD
BEGIN:DAYLIGHT
TZOFFSETFROM:+0100
TZOFFSETTO:+0200
TZNAME:CEST
DTSTART:20220327T010000
END:DAYLIGHT
BEGIN:STANDARD
TZOFFSETFROM:+0200
TZOFFSETTO:+0100
TZNAME:CET
DTSTART:20221030T010000
END:STANDARD
BEGIN:DAYLIGHT
TZOFFSETFROM:+0100
TZOFFSETTO:+0200
TZNAME:CEST
DTSTART:20230326T010000
END:DAYLIGHT
BEGIN:STANDARD
TZOFFSETFROM:+0200
TZOFFSETTO:+0100
TZNAME:CET
DTSTART:20231029T010000
END:STANDARD
END:VTIMEZONE
BEGIN:VEVENT
DTSTART;TZID=Europe/Madrid:20221230T193000
DTEND;TZID=Europe/Madrid:20221230T193000
DTSTAMP:20260422T070247
CREATED:20221204T234413Z
LAST-MODIFIED:20221216T125448Z
UID:117148-1672428600-1672428600@merida.es
SUMMARY:Ruta Teatralizada: 'Historicum\, un paseo por la historia de Mérida'
DESCRIPTION:La mismísima Atecina (diosa Lusitana) nos guía en este paseo por la historia emeritense\, en el que Marco y Lucinia recién llegados a Emerita nos cuentan su historia\, el Obispo Plubio nos habla de sus reformas y Yusuf se lamenta de la caída de su alcazaba\, pero Atecina Diosa eterna y olvidadada\, también nos contará algunas historias más recientes como la de los Mendoza…\nEl Puente Romano\, La alcazaba\, La morería\, Santa Eulalia…lugares con historias. Salida: Plaza de las Méridas del Mundo. 30 de diciembre. 19:30 horas. \nInscripción gratuita previa a partir del 19 de diciembre\, a las 10:00 horas\, rellendo el siguiente formulario: \nFormulario de Inscripción
URL:https://merida.es/agenda/ruta-teatralizada-historicum-un-paseo-por-la-historia-de-merida/
LOCATION:Recorrido Urbano\, Mérida
CATEGORIES:Visita Guiada
ATTACH;FMTTYPE=image/jpeg:https://merida.es/wp-content/uploads/2022/12/2022-ruta-teatralizada-peq.jpg
END:VEVENT
END:VCALENDAR