﻿BEGIN:VCALENDAR
VERSION:2.0
PRODID:-//Ayuntamiento de Mérida - ECPv6.15.17.1//NONSGML v1.0//EN
CALSCALE:GREGORIAN
METHOD:PUBLISH
X-ORIGINAL-URL:https://merida.es
X-WR-CALDESC:Eventos para Ayuntamiento de Mérida
REFRESH-INTERVAL;VALUE=DURATION:PT1H
X-Robots-Tag:noindex
X-PUBLISHED-TTL:PT1H
BEGIN:VTIMEZONE
TZID:Europe/Madrid
BEGIN:DAYLIGHT
TZOFFSETFROM:+0100
TZOFFSETTO:+0200
TZNAME:CEST
DTSTART:20220327T010000
END:DAYLIGHT
BEGIN:STANDARD
TZOFFSETFROM:+0200
TZOFFSETTO:+0100
TZNAME:CET
DTSTART:20221030T010000
END:STANDARD
BEGIN:DAYLIGHT
TZOFFSETFROM:+0100
TZOFFSETTO:+0200
TZNAME:CEST
DTSTART:20230326T010000
END:DAYLIGHT
BEGIN:STANDARD
TZOFFSETFROM:+0200
TZOFFSETTO:+0100
TZNAME:CET
DTSTART:20231029T010000
END:STANDARD
BEGIN:DAYLIGHT
TZOFFSETFROM:+0100
TZOFFSETTO:+0200
TZNAME:CEST
DTSTART:20240331T010000
END:DAYLIGHT
BEGIN:STANDARD
TZOFFSETFROM:+0200
TZOFFSETTO:+0100
TZNAME:CET
DTSTART:20241027T010000
END:STANDARD
END:VTIMEZONE
BEGIN:VEVENT
DTSTART;TZID=Europe/Madrid:20231111T100000
DTEND;TZID=Europe/Madrid:20231111T133000
DTSTAMP:20260420T023541
CREATED:20231103T225933Z
LAST-MODIFIED:20231103T225933Z
UID:125758-1699696800-1699709400@merida.es
SUMMARY:Jornadas Micológicas Urbanas
DESCRIPTION:La Biblioteca Municipal Juan Pablo Forner continúa desarrollando actividades con motivo de su 75 aniversario con la celebración\, el próximo 11 de noviembre\, de una Jornada Micológica. \nLa jornada comenzará a las 10 de la mañana\, en la propia biblioteca\, con una conferencia a cargo de José Luís Becerra con el título “Setas en la ciudad de Mérida”. \nUna vez finalizada la conferencia\, los participantes saldrán al Parque de la Isla para hacer un recorrido desde el Puente Romano hasta el Ferial y regreso al puente romano\, para observar las especies de setas del entorno. \nLa actividad es gratuita.
URL:https://merida.es/agenda/jornadas-micologicas-urbanas/
LOCATION:Varios puntos de la ciudad\, Mérida
CATEGORIES:Charla-Conferencia,Visita Guiada
ATTACH;FMTTYPE=image/jpeg:https://merida.es/wp-content/uploads/2023/11/2023-jornadas-micologicas-peq-1.jpg
END:VEVENT
END:VCALENDAR