﻿BEGIN:VCALENDAR
VERSION:2.0
PRODID:-//Ayuntamiento de Mérida - ECPv6.15.17.1//NONSGML v1.0//EN
CALSCALE:GREGORIAN
METHOD:PUBLISH
X-ORIGINAL-URL:https://merida.es
X-WR-CALDESC:Eventos para Ayuntamiento de Mérida
REFRESH-INTERVAL;VALUE=DURATION:PT1H
X-Robots-Tag:noindex
X-PUBLISHED-TTL:PT1H
BEGIN:VTIMEZONE
TZID:Europe/Madrid
BEGIN:DAYLIGHT
TZOFFSETFROM:+0100
TZOFFSETTO:+0200
TZNAME:CEST
DTSTART:20220327T010000
END:DAYLIGHT
BEGIN:STANDARD
TZOFFSETFROM:+0200
TZOFFSETTO:+0100
TZNAME:CET
DTSTART:20221030T010000
END:STANDARD
BEGIN:DAYLIGHT
TZOFFSETFROM:+0100
TZOFFSETTO:+0200
TZNAME:CEST
DTSTART:20230326T010000
END:DAYLIGHT
BEGIN:STANDARD
TZOFFSETFROM:+0200
TZOFFSETTO:+0100
TZNAME:CET
DTSTART:20231029T010000
END:STANDARD
BEGIN:DAYLIGHT
TZOFFSETFROM:+0100
TZOFFSETTO:+0200
TZNAME:CEST
DTSTART:20240331T010000
END:DAYLIGHT
BEGIN:STANDARD
TZOFFSETFROM:+0200
TZOFFSETTO:+0100
TZNAME:CET
DTSTART:20241027T010000
END:STANDARD
END:VTIMEZONE
BEGIN:VEVENT
DTSTART;TZID=Europe/Madrid:20231230T110000
DTEND;TZID=Europe/Madrid:20231230T123000
DTSTAMP:20260420T023556
CREATED:20231129T123420Z
LAST-MODIFIED:20231218T131725Z
UID:126573-1703934000-1703939400@merida.es
SUMMARY:Historicum\, un paseo por la historia de Mérida
DESCRIPTION:La mismísima Atecina (diosa Lusitana) nos guía en este paseo por la historia emeritense\, en el que Marco y Lucinia recién llegados a Emerita nos cuentan su historia\, el Obispo Plubio nos habla de sus reformas y Yusuf se lamenta de la caída de su alcazaba\, pero Atecina Diosa eterna y olvidadada\, también nos contará algunas historias más recientes como la de los Mendoza… El Puente Romano\, La alcazaba\, La morería\, Santa Eulalia… lugares con historias.  \nPrimer pase: 11.00 h. Segundo pase: 12.30 h\nPunto de encuentro: Plaza de las Méridas del Mundo\nPlazas limitadas.  \nInscripción previa a partir del martes 19 de diciembre\, a las 10.00 horas\, en el siguiente formulario.\nFormulario de Inscripción\n \nEl programa está incluido en la operación “Impulso de Mérida Cultural\, como palanca de desarrollo\, proyección y cohesión social” financiado por la Estrategia de Desarrollo Urbano Sostenible e Integrado de la ciudad de Mérida “EDUSI Mérida Central”\, aprobada con un presupuesto total de 12’5 millones de euros\, cofinanciados en un 80% por el Fondo Europeo de Desarrollo Regional (FEDER)\, en el marco del Programa Operativo Plurirregional de España 2014-2020.
URL:https://merida.es/agenda/historicum-un-paseo-por-la-historia-de-merida/
LOCATION:Recorrido Urbano\, Mérida
CATEGORIES:Teatro,Visita Guiada
ATTACH;FMTTYPE=image/jpeg:https://merida.es/wp-content/uploads/2023/11/2023-ruta-teatralizada-peq.jpg
END:VEVENT
END:VCALENDAR